BEGIN:VCALENDAR
VERSION:2.0
PRODID:-//Stadtgeschichte München//DE
CALSCALE:GREGORIAN
BEGIN:VEVENT
UID:10355@stadtgeschichte-muenchen.de
SUMMARY:Gedanken zur Zeit
DESCRIPTION:Herzliche Einladung zum Gedanken-Gang in Obergiesing.Wir&nbsp;widmen uns unterwegs Fragen der Zeit, serviert auf dem philosophischen Tablett und angeregt durch Orte und Gebäude amWegesrand. Sprichwörter, Zitate und Belletristik fließen mit ein und die gemeinsame Spanne auf demWeg nutzen wir zum Verweilen und Innehalten dort, wo besondereWegmarken uns einladen, Gehend zu philosophieren, steht in einer wunderbaren philosophischen Tradition. Was heute und gestern die Zeit strukturiert, welche Fragen sich aufdrängen und was vorige Zeiten uns an Denkzetteln vorgeben, wird vergnüglich untersucht.Wer den eigenen und anderen, neuen und alten Überlegungen im Gehen nachschweifen mag, ist hier richtig. Neugierige nachdenkende Geister willkommen!&nbsp;
DTSTART:20150620T150000
DTEND:20150620T170000
LOCATION:vor der TeLa-Post (U-Bahnhofn Busund Tram-Haltestelle Silberhornstr.) -Tegernseer Platz 
ORGANIZER:MVHS München Mitte   
END:VEVENT
END:VCALENDAR