BEGIN:VCALENDAR
VERSION:2.0
PRODID:-//Stadtgeschichte München//DE
CALSCALE:GREGORIAN
BEGIN:VEVENT
UID:10371@stadtgeschichte-muenchen.de
SUMMARY:Geothermie in Grünwald
DESCRIPTION:&lt;p&gt;Seit dem 11.April 2013 beliefert die ErdwärmeGrünwald GmbH Grünwalder Haushalte mit geothermisch erzeugter Wärme. Diese Unabhängigkeit von fossilen Brennstoffen erfordert einen hohen finanziellen wie technischen Aufwand seitens der Gemeinde Grünwald. Geothermie bedeutet: Das Tiefenwasser gibt seine Wärme an dasWasser im Fernwärmenetz ab undwird dann abgekühlt wieder in die Tiefe geleitet. Für die Übertragung der Wärme sind Wärmetauscher notwendig - und die haben ihren Platz im Geothermie‑ Heizwerk Laufzorn. Das hochmoderne Heizwerk beinhaltet neben den Wärmetauschern einen mit Öl betriebenen „Redundanz-Heizkessel“, der die EnNärmung des Wassers zum Beispiel beiWartungsarbeiten ermöglicht.&amp;nbsp;&lt;/p&gt; 
DTSTART:20150626T150000
DTEND:20150626T160000
LOCATION:Erdwärme Grünwald GmbH - Treffpunkt: wird mitgeteilt 
ORGANIZER:MVHS München Ost
END:VEVENT
END:VCALENDAR