BEGIN:VCALENDAR
VERSION:2.0
PRODID:-//Stadtgeschichte München//DE
CALSCALE:GREGORIAN
BEGIN:VEVENT
UID:10373@stadtgeschichte-muenchen.de
SUMMARY:Die renovierte Klosterkirche der Benediktinerabtei Schäftlarn
DESCRIPTION:Die Klosterkirche der Benediktinerabtei Schäftlarn ist ein Schmuckstück im Isartal und immer eine Besichtigung wert. 1760wurde sie geweiht, etwa 1764 wurde der letzte Altar angebracht. Solch ein Bauwerk will erhalten werden ‐ über Jahre hinweg wurde die Kirche aufwändig saniert, seit Sommer 2011sind die Renovierungsarbeiten abgeschlossen. Neben der Stabilisierung des Dachstuhlswurden unter anderem Stuckarbeiten vergoldet, Bilder gereinigt, Übermalungen beseitigt. Für Stuckaturen, Fresken und Bildhauerarbeiten zeichneten beim Bau der Kirche keine geringeren als Johann Baptist Zimmermann und Johann Baptist Straub verantwortlich. Was geschieht bei einer so aufwändigen Renovierung? Viele Fragen stellen sich hier, unter anderem die, wie man das Fresko in die Kuppel gebracht hat!&nbsp;
DTSTART:20150520T170000
DTEND:20150520T183000
LOCATION:Benediktinerabtei Schäftlarn, Eingang zur Klosterkirche
ORGANIZER:MVHS München Ost
END:VEVENT
END:VCALENDAR