BEGIN:VCALENDAR
VERSION:2.0
PRODID:-//Stadtgeschichte München//DE
CALSCALE:GREGORIAN
BEGIN:VEVENT
UID:10379@stadtgeschichte-muenchen.de
SUMMARY:Kommunalpolitik in München
DESCRIPTION:Führung durch das Rathaus Wie und wo passiert Kommunalpolitik im Rathaus? Von Stadtratsmitglied Gabriele Neff, Mitglied der Fraktion Freiheitsrechte, Transparenz und Bürgerbeteiligung (FDP, Die Piratenpartei und Wählergruppe HUT) erhalten Sie einen Einblick in die kommunalpolitische Arbeit und diskutieren über aktuelle Anliegen der Bürger aus dem Münchner Süden und wie diese Eingang in die Stadtratsbeschlüsse finden. Außerdem besichtigen Sie auf einem Rundgang durch das Rathaus u.a. die Sitzungssäle und die Fraktionsräume.
DTSTART:20150504T160000
DTEND:20150504T173000
LOCATION:Rathaus, an der Pforte (rechts vom Ratskeller) - Marienplatz 8 
ORGANIZER:MVHS München Süd
END:VEVENT
END:VCALENDAR