BEGIN:VCALENDAR
VERSION:2.0
PRODID:-//Stadtgeschichte München//DE
CALSCALE:GREGORIAN
BEGIN:VEVENT
UID:10380@stadtgeschichte-muenchen.de
SUMMARY:Momentaufnahme: Tunnelbaumaßnahme Mittlerer Ring Südwest
DESCRIPTION:Im August 2009 starteten die Rohbauarbeiten für die Tunnel in der Garmischer Straße, am Luise‐Kiesselbach-Platz und der Heckenstallerstraße. Bis Ende 2015 sind hier über zwei Kilometer Tunnel entstanden und werden voraussichtlich in der zweiten Jahreshälfte für den Verkehr freigegeben. Bis Ende 2017 wird im Anschluss daran die Oberfläche neu gestaltet. Bei einer Führung erläutert Ihnen der Vorsitzende des zuständigen Bezirksausschusses 7 den derzeitigen Stand, die Bauweise der Tunnel und eventuell schon vorliegende Pläne der Oberflächengestaltung.
DTSTART:20150723T170000
DTEND:20150723T183000
LOCATION:Passauerstr./Heckenstallerstr. Südseite
ORGANIZER:MVHS München Süd
END:VEVENT
END:VCALENDAR