BEGIN:VCALENDAR
VERSION:2.0
PRODID:-//Stadtgeschichte München//DE
CALSCALE:GREGORIAN
BEGIN:VEVENT
UID:1039@stadtgeschichte-muenchen.de
SUMMARY:Der Gärtnerplatz und das Glockenbachviertel
DESCRIPTION:&lt;div&gt;Um die Mitte des 19. Jahrhunderts wurde das Viertel um den G&amp;auml;rnter-platz nach Prinzipien des geometrischen S&amp;auml;dtebaus systematisch angelegt, viele j&amp;uuml;dische Mitb&amp;uuml;rger lebten bis in&amp;nbsp;die drei&amp;szlig;iger Jahre dort. Trotz des relativ lautstarken Nachtlebens geh&amp;ouml;rt diese Gegend zu den begehrtesten Wohnlagen M&amp;uuml;nchens. Besonders die Gr&amp;uuml;nanlagen vor dem Theater erfreuen&amp;nbsp;&lt;/div&gt; &lt;div&gt;sich bis tief in die Nacht gr&amp;ouml;&amp;szlig;ter Beliebtheit - oft zum &amp;Auml;rger der Anwohner. Nicht minder lebhaft geht es in der Hans-Sachs-Stra&amp;szlig;e zu; sie geh&amp;ouml;rt zu den besterhaltensten M&amp;uuml;nchner&amp;nbsp;Stra&amp;szlig;enz&amp;uuml;ge der Gr&amp;uuml;nderzeit, die heute noch einen Eindruck davon vermittelt, wie M&amp;uuml;nchen um die Jahrhundertwende ausgesehen haben mag. Vereinzelt finden sich auch in der&amp;nbsp;M&amp;uuml;llerstra&amp;szlig;e interessante Bauten. Die fr&amp;uuml;her reichlich hier flie&amp;szlig;enden B&amp;auml;che sind weitgehend verschwunden. An die ehemalige M&amp;uuml;hlen- und S&amp;auml;gewerke erinnert heute au&amp;szlig;er den&amp;nbsp;Stra&amp;szlig;ennamen kaum noch etwas.&lt;/div&gt;
DTSTART:20120121T140000
DTEND:20120121T160000
LOCATION:Gärtnerplatztheater Eingang
ORGANIZER:DGB-Bildungswerk Bayern e.V. Region München
END:VEVENT
END:VCALENDAR