BEGIN:VCALENDAR
VERSION:2.0
PRODID:-//Stadtgeschichte München//DE
CALSCALE:GREGORIAN
BEGIN:VEVENT
UID:10395@stadtgeschichte-muenchen.de
SUMMARY:Die Kirche St. Achaz - von den gotischen Wurzeln bis heute
DESCRIPTION:Die Kirche St. Achaz in Mittersendling ist schon der dritte Sakralbau an dieser Stelle, der dem hl. Achatius geweiht ist. Ein gotischer Vorgängerbau aus dem 14. Jahrhundert fiel dem barocken Neubau von Johann Georg Ettenhofer zum Opfer, dieser wurde durch einen weitgehenden Neubau von Richard Steidle aus den 1920er Jahren ersetzt, in den die barocke Ausstattung in Teilen übernommen wurde. Verloren gegangen sind die Cosmas Damian Asam zugeschriebenen Fresken, von denen sich Abbildungen erhalten haben. Nach einer ausführlichen Besichtigung der Kirche werfen wir einen Blick auf die schönen Häuser der Umgebung mit vom Jugendstil beeinflussten Fassaden.
DTSTART:20150926T150000
DTEND:20150926T163000
LOCATION:Kirche St. Achaz â€¢ Fallstr., unter der Orgelempore
ORGANIZER:MVHS München Mitte   
END:VEVENT
END:VCALENDAR