BEGIN:VCALENDAR
VERSION:2.0
PRODID:-//Stadtgeschichte München//DE
CALSCALE:GREGORIAN
BEGIN:VEVENT
UID:10399@stadtgeschichte-muenchen.de
SUMMARY:Kriegersiedlung in Sendling
DESCRIPTION:Um kriegsverletzten Soldaten aus dem 1.Weltkrieg die Rückkehr in die Heimat zuerleichtern, sollte ihnen der Erwerb eines kleinen Hauses mit Garten ermöglicht werden. 1919 wurde der Kriegsbeschädigtenverein gegründet und im Juli des gleichen Jahres die Baugenossenschaft des Vereins. Vom Sendlinger Bauern Simon Kafflerkonnte der Baugrund erworben werden und schon 1920 gab es den ersten Spatenstich. Lernen Sie die Geschichte der Kriegersiedlung kennen; es hat sich eine Hausordnung von 1923 erhalten mit z.T. kuriosen Regeln. Die Architekten Peter Schneider, Max Graessel und Gerald Leindecker entwarfen die Siedlung, die heute unter Ensembleschutz steht und äußerst beliebt ist; zur Zeit gibt eseinen Aufnahmestopp für die Baugenossenschaft.
DTSTART:20150613T150000
DTEND:20150613T163000
LOCATION:Wirtshaus in Sendling - Albert‑ Roßhaupter‐Str. 61
ORGANIZER:MVHS München Süd
END:VEVENT
END:VCALENDAR