BEGIN:VCALENDAR
VERSION:2.0
PRODID:-//Stadtgeschichte München//DE
CALSCALE:GREGORIAN
BEGIN:VEVENT
UID:10412@stadtgeschichte-muenchen.de
SUMMARY:Idyllen der Großstadt
DESCRIPTION:Das stimmungsvolle Klösterchen Warnberg birgt feine Kunstwerke von Erasmus Grasser und Johann Baptist Sträub; auf seinem Gelände&nbsp;besteigen wir den höchstgelegenen Punkt Münchens. Zuvor spazieren wir durch das Dorf Solln: Alt-Solln ist der größte und reizvollste&nbsp;Dorfkern im heutigen Münchner Stadtgebiet. Die im Kern mittelalterliche Kirche an der Herterichstraße, idyllische Plätze und Straßen&nbsp;sowie Bauernhöfe, Handwerkersitze, Landhäuser und Gasthöfe sind die vielfältigen Kostbarkeiten auf diesem Rundgang.
DTSTART:20150727T143000
DTEND:20150727T170000
LOCATION:Portal der Pfarrkirche St. Johann Baptist â€¢ Fellererplatz
ORGANIZER:MVHS München Süd
END:VEVENT
END:VCALENDAR