BEGIN:VCALENDAR
VERSION:2.0
PRODID:-//Stadtgeschichte München//DE
CALSCALE:GREGORIAN
BEGIN:VEVENT
UID:10415@stadtgeschichte-muenchen.de
SUMMARY:Neues Leben im Dorfkern
DESCRIPTION:Lange stand das Weiße Bräuhaus, das alte Gasthaus im Haderner Dorfkern leer ‐ bis die Augustiner Brauerei den Eckbau an der Würmtalstraße gekauft und renoviert hat. Das Geschwisterpaar Michael Glöckle und Stephanie Rollwagen hat den Augustiner übernommen und setzt die urige Wirthaustradition im Herzen Haderns fort. Alfons Kunz erzählt die Geschichte des Hauses und berichtet über die Entwicklung einer über 110-jährigen Erfolgsgeschichte. Im Zusammenarbeit mit dem Geschichtsverein Hadern e.V.
DTSTART:20150729T173000
DTEND:20150729T190000
LOCATION:„Haderner Augustiner\", ehemals Weißes Bräuhaus Hadern - Würmtalstr. 113
ORGANIZER:MVHS München Süd
END:VEVENT
END:VCALENDAR