BEGIN:VCALENDAR
VERSION:2.0
PRODID:-//Stadtgeschichte München//DE
CALSCALE:GREGORIAN
BEGIN:VEVENT
UID:10418@stadtgeschichte-muenchen.de
SUMMARY:KuItour- Radtour Forstenrieder Park
DESCRIPTION:Der Forstenrieder Park ist eine der größten Waldflächen Bayerns und liegt direkt vor unserer Haustür. Ein herrliches Revier für alle Ausflugsradler! Der Park ist aber nicht nur von großer Bedeutung für Freizeit und Ökologie, er bewahrt auch zahlreiche Sehenswürdigkeiten, z.B. eine Keltenschanze, die Römerstraße „Via Julia\" und barocke Prachtentfaltung wie Schloß Fürstenried. Bei dieser Radltour soll deshalb der Forstenrieder Park einmal von seiner kulturgeschichtlichen Seite „erfahren” werden. (Streckenlänge ca. 21 km)
DTSTART:20150628T140000
DTEND:20150628T170000
LOCATION:Schweizer Platz/Ecke Graubündener Str. ‑ U3‐ Fürstenried-West
ORGANIZER:MVHS München Süd
END:VEVENT
END:VCALENDAR