BEGIN:VCALENDAR
VERSION:2.0
PRODID:-//Stadtgeschichte München//DE
CALSCALE:GREGORIAN
BEGIN:VEVENT
UID:10430@stadtgeschichte-muenchen.de
SUMMARY:Dem Bäckermeister über die Schulter geschaut
DESCRIPTION:&lt;p&gt;Besuch in der Bäckerei Hoffmann Die vollständig renovierte Backstube der hundertjährigen Bäckerei ist auf dem neuesten Stand der Technik. Bei der dreistündigen Veranstaltung besichtigen Sie die Backstube und das Rohstofflagerund backen mit fachkundiger Hilfe ein ausgezeichnetes Sonnenblumenbrot. Bei Kaffee und Kuchen in der Backstube beantwortet der Bäcker- und Konditormeister Heinz Hoffmann Ihre Fragen.&lt;/p&gt; 
DTSTART:20150414T143000
DTEND:20150414T173000
LOCATION:Bäckerei Hoffmann, Reutterstr. 42
ORGANIZER:MVHS München West
END:VEVENT
END:VCALENDAR