BEGIN:VCALENDAR
VERSION:2.0
PRODID:-//Stadtgeschichte München//DE
CALSCALE:GREGORIAN
BEGIN:VEVENT
UID:10433@stadtgeschichte-muenchen.de
SUMMARY:Neuhausen Süd - Zwischen Post und Eisenbahn
DESCRIPTION:Der Südteil Neuhausens, zwischen Wendl-Dietrich-Straße, dem Steubenplatz, der Arnulf- und der Donnersbergerstraße, ist geprägt von den großen Genossenschaftsbauten der Post und Eisenbahn sowie von der Großsiedlung Neuhausen der Gemeinnützigen Wohnungsfürsorge AG (Gewofag). Historische, politische, soziale und kulturelle Aspekte aus diesem Wohnquartier kommen bei diesem Rundgang zur Sprache. In Zusammenarbeit mit der Geschichtswerkstatt Neuhausen e.V.
DTSTART:20150711T140000
DTEND:20150711T160000
LOCATION:Winthirsäule am Winthirplatz
ORGANIZER:MVHS München West
END:VEVENT
END:VCALENDAR