BEGIN:VCALENDAR
VERSION:2.0
PRODID:-//Stadtgeschichte München//DE
CALSCALE:GREGORIAN
BEGIN:VEVENT
UID:10441@stadtgeschichte-muenchen.de
SUMMARY:Schloss Nymphenburg unterm Hakenkreuz
DESCRIPTION:Was war damals los im Schloss? Undwas blieb noch übrig aus jener Zeit? Die Machtansprüche des NS-Regimes ließen Schloss Nymphenburg keineswegs in einen Dornröschenschlaf sinken: rege Bautätigkeit und rauschende Feste, aber auch Zwangsräumungen und Bombardierung sind Themen unseres Rundgangs. Die Führung findet in den Außenanlagen des Schlosses statt.
DTSTART:20150515T150000
DTEND:20150515T163000
LOCATION:Freitreppe vor Schloss Nymphenburg
ORGANIZER:MVHS München West
END:VEVENT
END:VCALENDAR