BEGIN:VCALENDAR
VERSION:2.0
PRODID:-//Stadtgeschichte München//DE
CALSCALE:GREGORIAN
BEGIN:VEVENT
UID:10448@stadtgeschichte-muenchen.de
SUMMARY:Orte des Genusses in Pasing
DESCRIPTION:Pasing war im 19. Jahrhundert ein beliebter Ausflugsort. Auf dem Rundgangwerden verschiedene historische Gasthäuser, Tafernwirtschaften und auch Cafes aufgesucht und Einblicke gewährt, die sonst nicht zu erhalten sind. Vom Bahnhof aus werden alte vergessene Wirtschaften, eine Milchbar und Melberei (alte Bezeichnung für Mehlhandlung) erkundet. Am Marienplatz erforschen wir die Kaffeehauskultur und erfahren im Schweizer Hof, was eine Schweizerei gewesen ist. Mit der „Goldenen Gans\" erwartet uns ein Restaurant mit einer 200-jährigen Gastronomiegeschichte.
DTSTART:20150718T130000
DTEND:20150718T143000
LOCATION:S-Bahnhof Pasing, Haupteingang
ORGANIZER:MVHS München West
END:VEVENT
END:VCALENDAR