BEGIN:VCALENDAR
VERSION:2.0
PRODID:-//Stadtgeschichte München//DE
CALSCALE:GREGORIAN
BEGIN:VEVENT
UID:10459@stadtgeschichte-muenchen.de
SUMMARY:Kirchen und Klöster im Würmtal - eine Entdeckungstour
DESCRIPTION:Im Münchner Würmtal zwischen Pasing und Untermenzing besteht eine lange Siedlungstradition. Die Kirchen und Klöster in diesem Gebiet führen uns auf die Spuren dieser alten Siedlungen, zeigen Verbindungen und Erneuerungen. Von Mariä Geburt in Pasing, St.Wolfgang in Pipping, der gotischen Schlosskirche in der Blutenburg und St. Georg in Obermenzing führt die Tour bis zur spätgotischen Kirche St. Martin in Untermenzing. Die Klöster sind unscheinbarer und versteckt wie das Kloster der Englischen Fräulein in Pasing oder das russisch-orthodoxe Kloster bei der Blutenburg. Die Radtour verbindet die körperliche Bewegung mit kurzen kunsthistorischen Betrachtungen. Radstrecke ca. 12 km.
DTSTART:20150704T140000
DTEND:20150704T170000
LOCATION:Volkshochschule, Bäckerstr. 14, vor dem Eingang
ORGANIZER:MVHS München West
END:VEVENT
END:VCALENDAR