BEGIN:VCALENDAR
VERSION:2.0
PRODID:-//Stadtgeschichte München//DE
CALSCALE:GREGORIAN
BEGIN:VEVENT
UID:10508@stadtgeschichte-muenchen.de
SUMMARY:Der Münchner Schlacht- und Viehhof
DESCRIPTION:Am 31. August 1878 wurde der zentrale Vieh- und Schlachthof in München eröffnet. Nach baulichen EnNeiterungen wurde er zeitweise zum größten Umschlageplatz für Schlachtvieh in Deutschland. Im Krieg zerstört, erfolgte der schwierige Wiederaufbau. Über die Geschichte der Vieh- und Schlachthöfe im alten München und dem vom Stadtbaurat Arnold Zenetti erbauten Neuen Handelsplatz reden wir auf unserem . Rundgang entlang des Schlachthofes (dort kein Zugang möglich) durch die Zenettistraße und gehen durch das Gelände des ehemaligen Viehhofes mit den zum Teil noch erhaltenen Bauten, die unter Denkmalschutz stehen.
DTSTART:20150718T150000
DTEND:20150718T170000
LOCATION:Ecke Thalkirchner-/Kapuzinerstraße. Bushaltestelle Arbeitsamt, Bus 58 od. Bus 62
ORGANIZER:DGB-Bildungswerk Bayern e.V. Region München
END:VEVENT
END:VCALENDAR