BEGIN:VCALENDAR
VERSION:2.0
PRODID:-//Stadtgeschichte München//DE
CALSCALE:GREGORIAN
BEGIN:VEVENT
UID:1054@stadtgeschichte-muenchen.de
SUMMARY:Die 1930er Jahre im Münchner Norden
DESCRIPTION:&lt;div&gt;Durch die Auswirkungen der Weltwirtschaftskrise gerieten auch viele M&amp;uuml;nchner/-innen in Not. Um diese Situation zu entsch&amp;auml;rfen beschloss die Regierung der Weimarer Republik,&amp;nbsp;Verordnung vom 6.10.1931, Siedlungen f&amp;uuml;r diese notleidenden Menschen zu bauen. Auch die Siedlung am Hart, erbaut 1933-1935, hat hierin ihren Ursprung. Mit der Machtergreifung der&amp;nbsp;NSDAP im Jahre 1933 schrieb sich diese die Verdienste um diese Siedlungen selbst zu. Bei unserem Rundgang werden wir &amp;uuml;ber viele Aspekte dieser Zeit sprechen und manche Mythen ins&amp;nbsp;richtige Licht setzen. Die Stadtentwicklung in dieser Zeit bis in die Gegenwart wird auch nicht zu kurz kommen.&lt;/div&gt;
DTSTART:20111112T140000
DTEND:20111112T153000
LOCATION:VHS Nord, Troppauer Str. 10, U-Bahnstation Am Hart (U2)
ORGANIZER:Münchner Stadtführungen
END:VEVENT
END:VCALENDAR