BEGIN:VCALENDAR
VERSION:2.0
PRODID:-//Stadtgeschichte München//DE
CALSCALE:GREGORIAN
BEGIN:VEVENT
UID:10564@stadtgeschichte-muenchen.de
SUMMARY:Die Kirche im Dorf lassen: St. Anna im Lehel
DESCRIPTION:Begleitprogramm zu der Ausstellung \"Mit Leib und Seele\": &nbsp;Der einzigartige Kirchenbau Johann Michael Fischers und die Ausstattung von Asam und Straub machen die Klosterkirche der Franziskaner trotz starker Kriegsschäden zu einem Anziehungspunkt im Lehel.&nbsp;
DTSTART:20150321T150000
DTEND:20150321T160000
LOCATION:St. Anna Kloster-Kirche, St. Anna Platz, 80538 München
ORGANIZER:Münchner Bildungswerk e.V.
END:VEVENT
END:VCALENDAR