BEGIN:VCALENDAR
VERSION:2.0
PRODID:-//Stadtgeschichte München//DE
CALSCALE:GREGORIAN
BEGIN:VEVENT
UID:10566@stadtgeschichte-muenchen.de
SUMMARY:Asam, Straub und Günther
DESCRIPTION:Führung im Archiv des Erzbistums München und Freising &nbsp;Begleitprogramm zu der Ausstellung \"Mit Leib und Seele\": &nbsp;Münchens große Rokoko-Künstler haben neben ihren Werken auch schriftliche Spuren hinterlassen – ob in Tauf-, Trauungs- und Sterbebüchern, Verträgen, Rechnungen oder Briefen. Diese historischen Dokumente beleuchten ganz unterschiedliche Aspekte ihres Lebens und Wirkens. Bei der Führung wird eine Auswahl von Dokumenten aus verschiedenen kirchlichen Archiven im Original vorgestellt und fachkundig erläutert.
DTSTART:20150323T170000
DTEND:20150323T183000
LOCATION:Archiv des Erzbistums, Karmeliterstraße 1,
ORGANIZER:Münchner Bildungswerk e.V.
END:VEVENT
END:VCALENDAR