BEGIN:VCALENDAR
VERSION:2.0
PRODID:-//Stadtgeschichte München//DE
CALSCALE:GREGORIAN
BEGIN:VEVENT
UID:10569@stadtgeschichte-muenchen.de
SUMMARY:Maxvorstadt: Maler, Dichter, Komponisten
DESCRIPTION:Das repräsentative Ambiente lockte das reiche Großbürgertum Münchens in die königliche Maxvorstadt. Richard Wagner, Franz von Lenbach, Graf Schack, Paul Heyse oder auch Alfred Pringsheim wohnten in unmittelbarer Nachbarschaft zueinander, pflegten Freundschaften und waren Teil des bunten gesellschaftlichen Lebens. Ein literarischer Spaziergang fängt den Geist der Zeit ein und lässt große Namen zu Wort kommen. &nbsp;
DTSTART:20150424T143000
DTEND:20150424T160000
LOCATION:Glyptothek am Königsplatz; Freitreppe
ORGANIZER:Münchner Bildungswerk e.V.
END:VEVENT
END:VCALENDAR