BEGIN:VCALENDAR
VERSION:2.0
PRODID:-//Stadtgeschichte München//DE
CALSCALE:GREGORIAN
BEGIN:VEVENT
UID:1058@stadtgeschichte-muenchen.de
SUMMARY:Adventszeit in München - der „helle Wahnsinn&quot; oder „a staade Zeit&quot
DESCRIPTION:&lt;div&gt;Wenn man heute in der Adventzeit durch M&amp;uuml;nchen und die Christ-kindlm&amp;auml;rkte geht, kann einen der Graus packen, wias da zuageht -Essen, Trinken und dazwischen Rauschgoldengel - aba&amp;nbsp;wos kann man macha, wos kannt oam da helfa?&lt;/div&gt; &lt;div&gt;A herzenswarmes Gef&amp;uuml;hl war doch gfragt! In bairischer Mundart erz&amp;auml;hlen wir weihnachtliche Gschichten von bayrischer Br&amp;auml;uchen und wollen versuchen, dass die richtige&amp;nbsp;vorweihnachtliche Stimmung in uns wach wird.&lt;/div&gt; &lt;div&gt;&amp;nbsp;&lt;/div&gt; &lt;div&gt;*&amp;bull; Stadtteilrundgang, Freitag, 09.12.2011 , 15:30-17:30 Uhr &amp;gt; Leitung: Karin Ostberg: Erz&amp;auml;hlerin - Gschichtn in Bairischer Mundart und Rosanna Ferrarezi-Gebauer, Stadtf&amp;uuml;hrerin &amp;gt;&amp;nbsp;&lt;/div&gt; &lt;div&gt;&amp;nbsp;&lt;/div&gt; &lt;p&gt;Treffpunkt: Alter Peter, Aufgang zum Turm&amp;nbsp;&lt;/p&gt;
DTSTART:20111209T153000
DTEND:20111209T173000
LOCATION:Alter Peter, Aufgang zum Turm 
ORGANIZER:DGB-Bildungswerk Bayern e.V. Region München
END:VEVENT
END:VCALENDAR