BEGIN:VCALENDAR
VERSION:2.0
PRODID:-//Stadtgeschichte München//DE
CALSCALE:GREGORIAN
BEGIN:VEVENT
UID:1060@stadtgeschichte-muenchen.de
SUMMARY:Revolution, Räterepublik und Weißer Terror
DESCRIPTION:&lt;div&gt;7. November 1918: Auf der Theresienwiese findet eine Friedenskundgebung statt. Anschlie&amp;szlig;end zieht eine Gruppe um Kurt Eisner zu den Kasernen, wo sich ihnen die Soldaten&amp;nbsp;anschlie&amp;szlig;en. Noch in der Nacht ruft Kurt Eisner den &amp;bdquo;Freistaat Bayern&amp;quot; aus. Es war das Ende der Monarchie. Am 21. Februar 1919 wird Ministerpr&amp;auml;sident Eisner durch Anton Graf von&amp;nbsp;Arco auf Valley auf offener Stra&amp;szlig;e erschossen. Wir werden die wichtigsten Schaupl&amp;auml;tze dieser und der folgenden Ereignisse aufsuchen.&lt;/div&gt;
DTSTART:20111106T140000
DTEND:20111106T170000
LOCATION:Theresienwiese, U-Bahn Ausgang Festwiese 
ORGANIZER:MVHS München Mitte   
END:VEVENT
END:VCALENDAR