BEGIN:VCALENDAR
VERSION:2.0
PRODID:-//Stadtgeschichte München//DE
CALSCALE:GREGORIAN
BEGIN:VEVENT
UID:10643@stadtgeschichte-muenchen.de
SUMMARY:Dialogue au chäteau de Nymphenburg
DESCRIPTION:(mit französischen Grundkenntnissen)
DTSTART:20150421T163000
DTEND:20150421T000000
LOCATION:Haupteingang Schloss Nymphenburg
ORGANIZER:Bayerische Schlösserverwaltung
END:VEVENT
END:VCALENDAR