BEGIN:VCALENDAR
VERSION:2.0
PRODID:-//Stadtgeschichte München//DE
CALSCALE:GREGORIAN
BEGIN:VEVENT
UID:10722@stadtgeschichte-muenchen.de
SUMMARY:Napoleon und München
DESCRIPTION:Vor 200 Jahren endete mit der Schlacht von Waterloo die Zeit Napoleons, die auch in München heute noch greifbar ist. Der berühmte kleine Korse brachte dem bayerischen Herrscherhaus den Königstitel, der bayerischen Sprache das Potschamperl, den gscherten Lack\'l und das Trottoir, der Bevölkerung aber auch viel Elend und Gewalt. Entdecken Sie auf diesem Spaziergang die wechselhaften Beziehungen zu Frankreich in der napoleonischen Zeit. &nbsp; Die Führung wurde in Kooperation mit der Bayerischen Landesausstellung 2015 Napoleon und Bayern des Hauses der Bayerischen Geschichte in Ingolstadt entwickelt.
DTSTART:20150719T110000
DTEND:20150719T130000
LOCATION:Unter dem Bogen des Neuhauser Tors am Stachus
ORGANIZER:STATTreisen München e.V.
END:VEVENT
END:VCALENDAR