BEGIN:VCALENDAR
VERSION:2.0
PRODID:-//Stadtgeschichte München//DE
CALSCALE:GREGORIAN
BEGIN:VEVENT
UID:10733@stadtgeschichte-muenchen.de
SUMMARY:Friedrich Ludwig von Skell
DESCRIPTION:Mit Aufstieg auf den Chiesischen Turm Teilnehmerbeschränkung
DTSTART:20150718T140000
DTEND:20150718T000000
LOCATION:Aufgang Chinesischer Turm
ORGANIZER:Bayerische Schlösserverwaltung
END:VEVENT
END:VCALENDAR