BEGIN:VCALENDAR
VERSION:2.0
PRODID:-//Stadtgeschichte München//DE
CALSCALE:GREGORIAN
BEGIN:VEVENT
UID:10735@stadtgeschichte-muenchen.de
SUMMARY:Im Juli muss die Hitze braten, was im September soll geraten
DESCRIPTION:Die Monatsteppiche in der Residenz
DTSTART:20150719T133000
DTEND:20150719T000000
LOCATION:Kasse Residenzmuseum
ORGANIZER:Bayerische Schlösserverwaltung
END:VEVENT
END:VCALENDAR