BEGIN:VCALENDAR
VERSION:2.0
PRODID:-//Stadtgeschichte München//DE
CALSCALE:GREGORIAN
BEGIN:VEVENT
UID:10740@stadtgeschichte-muenchen.de
SUMMARY:Auf den Spuren Mozarts durch die Residenz (mit Musikbeispielen)
DESCRIPTION:
DTSTART:20150726T133000
DTEND:20150726T000000
LOCATION:Kasse Residenzmuseum
ORGANIZER:Bayerische Schlösserverwaltung
END:VEVENT
END:VCALENDAR