BEGIN:VCALENDAR
VERSION:2.0
PRODID:-//Stadtgeschichte München//DE
CALSCALE:GREGORIAN
BEGIN:VEVENT
UID:10741@stadtgeschichte-muenchen.de
SUMMARY:Dialogue au chäteau de Schleißheim
DESCRIPTION:(mit französischen Grundkenntnissen)
DTSTART:20150726T140000
DTEND:20150726T000000
LOCATION:Kasse
ORGANIZER:Bayerische Schlösserverwaltung
END:VEVENT
END:VCALENDAR