BEGIN:VCALENDAR
VERSION:2.0
PRODID:-//Stadtgeschichte München//DE
CALSCALE:GREGORIAN
BEGIN:VEVENT
UID:10794@stadtgeschichte-muenchen.de
SUMMARY:Naturkundliche Wanderung:
DESCRIPTION:Diese 5-6stündige Wanderung wird durch die spätsommerliche Landschaft führen, auf einem Rundweg vom Mühltal aus, vorbei an heiligen Quellen und Orten von Leutstetten durch das Wildmoos und letztlich wieder zurück zum S-Bahnhof Mühltal (unterwegs keine Einkehrmöglichkeit, erst am Ende der Wanderung) Zur Organisation von Mitfahrgelegenheiten, sowohl Angebot als auch Nachfrage, bitte anrufen Tel.: 089/2 71 90 52 Kooperation mit LBV &nbsp; &nbsp;&nbsp;
DTSTART:20150905T100000
DTEND:20150905T160000
LOCATION: Parkplatz am ehemaligen S-Bahnhof Mühltal 
ORGANIZER:DGB-Bildungswerk Bayern e.V. Region München
END:VEVENT
END:VCALENDAR