BEGIN:VCALENDAR
VERSION:2.0
PRODID:-//Stadtgeschichte München//DE
CALSCALE:GREGORIAN
BEGIN:VEVENT
UID:10881@stadtgeschichte-muenchen.de
SUMMARY:Geheimnisvolles München
DESCRIPTION:Im Mittelalter spielte der Aberglaube eine starke Rolle. Rätselhafte und zwielichtige Persönlichkeiten hatten oft leichtes Spiel mit dem einfachen Volk. Dieser Rundgang führt Sie an mysteriöse und wun‐\' derliche Plätze. Lassen Sie sich gefangen nehmen von packenden Geistergeschichten und rätselhaften Legenden. Begeben Sie sich auf Entdeckungsreise in eine geheimnisumwitterte Vergangenheit.&nbsp;
DTSTART:20160105T160000
DTEND:20160105T180000
LOCATION:Frauenkirche (Dorn), Hauptportal - Frauenplatz 1
ORGANIZER:MVHS München Mitte   
END:VEVENT
END:VCALENDAR