BEGIN:VCALENDAR
VERSION:2.0
PRODID:-//Stadtgeschichte München//DE
CALSCALE:GREGORIAN
BEGIN:VEVENT
UID:10882@stadtgeschichte-muenchen.de
SUMMARY:München mit allen Sinnen
DESCRIPTION:Haben Sie München schon einmal geschmeckt, gerochen oder gefühlt? Nein? Dann lassen Sie sich auf‘eine ungewöhnliche Entdeckungsreise entführen. Wie riecht esan bestimmten Ecken und kann man Sehenswürdigkeiten auch erfühlen? Die Antwort finden Sie bei dieser abwechslungsreichen Führung. Sie erleben die Stadt unter ganz neuen Aspekten.&nbsp;
DTSTART:20151016T160000
DTEND:20151016T180000
LOCATION:unter dem Turm des Neuen Rathauses 
ORGANIZER:MVHS München Mitte   
END:VEVENT
END:VCALENDAR