BEGIN:VCALENDAR
VERSION:2.0
PRODID:-//Stadtgeschichte München//DE
CALSCALE:GREGORIAN
BEGIN:VEVENT
UID:10884@stadtgeschichte-muenchen.de
SUMMARY:Lacittä piü a nord d‘Italia
DESCRIPTION:Mit Henriette Adelaide von Savoyen kamen italienische&nbsp;Baumeister und Einflüsse nach München. Richtet sich&nbsp;der Blick vom Odeonsplatz auf die Theatinerkirche und &nbsp;die Feldherrnhalle, die ein Abbild der Loggia dei Lanzi in&nbsp;Florenz ist, fühlen wir uns Italien sehr nahe. &nbsp; &nbsp; Die Führung wird in italienischer Sprache durchgeführt.&nbsp; &nbsp;
DTSTART:20151115T110000
DTEND:20151115T123000
LOCATION:Max-Josef-Platz, am Denkmal 
ORGANIZER:MVHS München Mitte   
END:VEVENT
END:VCALENDAR