BEGIN:VCALENDAR
VERSION:2.0
PRODID:-//Stadtgeschichte München//DE
CALSCALE:GREGORIAN
BEGIN:VEVENT
UID:10885@stadtgeschichte-muenchen.de
SUMMARY:Brez\'n trifft Borschtsch
DESCRIPTION:In München leben mehr als 600.000 Menschen, deren Wurzeln nicht in Deutschland liegen. Bei diesem Rundgang mit dem Kulturverein „Ahoj Nachbarn\" suchen wir nach Spuren, die München zur „Weltstadt“ machen. Wir widmen uns im Speziellen der Migration aus Ländern der ehemaligen Sowjetunion. Was waren die Gründe und wo sind die Treffpunkte für Menschen aus Russland, Belarus, der Ukraine oder Georgien, die ihre Heimat hinter sich gelassen und doch mitgenommen haben?
DTSTART:20151013T170000
DTEND:20151013T183000
LOCATION:olstoi-Bibliothek -Thierschstr. 11
ORGANIZER:MVHS München Mitte   
END:VEVENT
END:VCALENDAR