BEGIN:VCALENDAR
VERSION:2.0
PRODID:-//Stadtgeschichte München//DE
CALSCALE:GREGORIAN
BEGIN:VEVENT
UID:10888@stadtgeschichte-muenchen.de
SUMMARY:Suppen, Bier und Münchner Schmankerl
DESCRIPTION:Wir erzählen Ihnen Geschichten rund ums Essen, Trinken und Genießen im alten München. Warum kam der Schweinsbraten früher zum&nbsp;Bäcker? Welches Gebäck aßen die Münchener zu welcher Jahreszeit?&nbsp;Wie jubelte Graf Rumford den Münchnern die Kartoffel unter? Warum&nbsp;gab es viele Rezepte mit Bier? Unterwegs werden Sie verwöhnt mit&nbsp;Altmünchner und typisch bayrischen Schmankerln zum Probieren.
DTSTART:20151004T150000
DTEND:20151004T163000
LOCATION:Stadtpfarrkirche St. Peter (am Turmaufgang), Rindermarkt 1
ORGANIZER:MVHS München Mitte   
END:VEVENT
END:VCALENDAR