BEGIN:VCALENDAR
VERSION:2.0
PRODID:-//Stadtgeschichte München//DE
CALSCALE:GREGORIAN
BEGIN:VEVENT
UID:1089@stadtgeschichte-muenchen.de
SUMMARY:Führung durch die Alte Pinakothek
DESCRIPTION:&lt;div&gt;Um 1800 wurden verschiedene Sammlungen der Wittelsbacher vereint. K&amp;ouml;nig Ludwig l. erg&amp;auml;nzte sie durch seinen eigenen Sammlungseifer. In der Zeit von 1826 bis 1836 lie&amp;szlig; er daf&amp;uuml;r&amp;nbsp;ein eigenes Geb&amp;auml;ude, die Alte Pinakothek erbauen. Mehr als 700 Gem&amp;auml;lde vom 14. bis zum 18 Jahrhundert sind heute ausgestellt. Die ehemals f&amp;uuml;rstliche Sammlung spiegelt die&amp;nbsp;wechselvolle Geschichte der Wittelsbacher wie auch den Geschmack der jeweiligen Sammlerpers&amp;ouml;nlichkeiten wieder. Auch das Geb&amp;auml;ude selbst, damals am Rande der Stadt erbaut, schrieb&amp;nbsp;Architekturgeschichte.&lt;/div&gt; &lt;div&gt;Unsere F&amp;uuml;hrung gibt einen &amp;Uuml;berblick &amp;uuml;ber das Haus und die Gem&amp;auml;ldegalerie von Weltrang, darunter viele bekannte Hauptwerke der Kunst. Erm&amp;auml;&amp;szlig;igung f&amp;uuml;r Teilnehmer mit Jahres- oder&amp;nbsp;Dauerkarte nur auf Anfrage bei der Anmeldung.&lt;/div&gt;
DTSTART:20120110T160000
DTEND:20120110T173000
LOCATION:Barer Str. 27, Eingang There-sienstraße - Museumskasse
ORGANIZER:DGB-Bildungswerk Bayern e.V. Region München
END:VEVENT
END:VCALENDAR