BEGIN:VCALENDAR
VERSION:2.0
PRODID:-//Stadtgeschichte München//DE
CALSCALE:GREGORIAN
BEGIN:VEVENT
UID:10896@stadtgeschichte-muenchen.de
SUMMARY:Engagement in einer Tour
DESCRIPTION:Der Abend bietet Ihnen die Gelegenheit, unkompliziert Einblicke in einige ‚Bereiche sozialer Arbeit in München zu erhalten. Sie lernen verschiedene Einrichtungen kennen, in denen Freiwillige aktiv sind. Mit dem MW und zu Fuß besuchen wir verschiedene Einrichtungen (z.B.Migrationsdienst, Altenheim, Frauenberatung). Diese stellen ihre Arbeit vor und zeigen, was an freiwilliger Tätigkeit bereits geleistet oder noch gebraucht wird. MW‐Gruppenfahrkarte für alle Teilnehmer wird gestellt. In Kooperation mit dem Caritas-Zentrum München Innenstadt.&nbsp;
DTSTART:20151015T173000
DTEND:20151015T210000
LOCATION:Caritas Verband München - Hirtenstr. 4 
ORGANIZER:MVHS München Mitte   
END:VEVENT
END:VCALENDAR