BEGIN:VCALENDAR
VERSION:2.0
PRODID:-//Stadtgeschichte München//DE
CALSCALE:GREGORIAN
BEGIN:VEVENT
UID:10911@stadtgeschichte-muenchen.de
SUMMARY:Stattpark OLGA
DESCRIPTION:Im Stattpark OLGA leben seit ca. fünf Jahren 15 Menschen unterschiedlichen Alters in Wohn-, Bau- und umgebauten Lastwägen auf einer von der Stadt München angemieteten Fläche.Warum macht man das? Ein Besuch bei den Bewohnern gibt Einblick in dieses Wohn- und Kulturprojekt. Nachhaltigkeit und Ökologie gehören zu den Prinzipien, die bei OLGA verfolgt werden. Die Bewohner laden immer wieder zu Veranstaltungen ein. Auch Menschen die hier nicht wohnen, können kreativ werden und sich engagieren.&nbsp;
DTSTART:20151015T170000
DTEND:20151015T183000
LOCATION:Tumblinger Str. 56 
ORGANIZER:MVHS München Mitte   
END:VEVENT
END:VCALENDAR