BEGIN:VCALENDAR
VERSION:2.0
PRODID:-//Stadtgeschichte München//DE
CALSCALE:GREGORIAN
BEGIN:VEVENT
UID:10912@stadtgeschichte-muenchen.de
SUMMARY:HIV ‐ Noch immer einThema?
DESCRIPTION:Jährlich infizieren sich im Raum München knapp 200 Menschen mit HIV. Wie lebt man 2015 mit der Krankheit? HIV infiziert und voll berufstätig ‐ geht das? Was kann die Medizin leisten und kann man dem HIV-Schnelltest vertrauen? Können prophylaktisch eingenommene Medikamente eine HIV-Infektion verhindern? Der „Berliner Patient” ‐ geheilt von HIV? Bei diesem interaktiven Vortrag erhalten Sie Einblick in die vielfältigen Arbeitsbereiche der Aidshilfe und Antworten auf aktuelle Fragen.&nbsp;
DTSTART:20151105T170000
DTEND:20151105T190000
LOCATION:Münchner Aids-Hilfe e.V. - Lindwurmstr. 71
ORGANIZER:MVHS München Mitte   
END:VEVENT
END:VCALENDAR