BEGIN:VCALENDAR
VERSION:2.0
PRODID:-//Stadtgeschichte München//DE
CALSCALE:GREGORIAN
BEGIN:VEVENT
UID:10925@stadtgeschichte-muenchen.de
SUMMARY:Das Bayerische Landeskriminalamt
DESCRIPTION:Das Bayerische Landeskriminalamt ist eine moderne Polizeizentrale, die alle bekannten Technologien zur Information, Untersuchung, Ermittlung und Prävention einsetzt, diese erforscht und weiterentwickelt. Nach einem kurzen Video über die Aufgaben des&nbsp; Landeskriminalamtes wird die Arbeit der Behörde an konkreten Beispielen erläutert. Das LKA benötigt vor der Führung die Namen und Geburtsdaten der Teilnehmer/innen.
DTSTART:20160218T100000
DTEND:20160218T130000
LOCATION:Bayerisches Landeskriminalamt Maillingerstr. 15
ORGANIZER:MVHS München Mitte   
END:VEVENT
END:VCALENDAR