BEGIN:VCALENDAR
VERSION:2.0
PRODID:-//Stadtgeschichte München//DE
CALSCALE:GREGORIAN
BEGIN:VEVENT
UID:10935@stadtgeschichte-muenchen.de
SUMMARY:Flucht und Vertreibung nach dem Zweiten Weltkrieg
DESCRIPTION:Am 30. April 1945 befreite die 7. US-Armee das KZ‐Außenlager Dachau‐Allach auf dem Gelände der heutigen Siedlung Ludwigsfeld. Bis 1947 wurde esals Lager für „Displaced Persons\" genutzt, anschließend diente esals Unterkunft ehemaliger deutscher Soldaten, Wohnlager für Kalmücken, als Bundesauswanderer- und Flüchtlingslager. Auf einem Teil des Geländes entstand die NeueWohnsiedlung‘ Ludwigsfeld. Bei der Führung werden eine der beiden erhaltenen Baracken und das Gelände besichtigt sowie über eine angemessene Form des Erinnerns diskutiert.&nbsp;
DTSTART:20151122T110000
DTEND:20151122T130000
LOCATION:Baracke des ehemaligen Lagers Ludwigsfeld Granatstr. 8
ORGANIZER:MVHS München Nord
END:VEVENT
END:VCALENDAR