BEGIN:VCALENDAR
VERSION:2.0
PRODID:-//Stadtgeschichte München//DE
CALSCALE:GREGORIAN
BEGIN:VEVENT
UID:10942@stadtgeschichte-muenchen.de
SUMMARY:Tour im BMW Forschungs- und Innovationszentrum (FIZ)
DESCRIPTION:Das FIZ gehört zu den größten und leistungsfähigsten Forschungszentren Europas. Nahezu 20.000 hochqualifizierte Ingenieure, Techniker und Designer entwickeln hier Autos für die Welt. Ein Film, ein Vortrag und ein rund einstündiger Rundgangvermitteln interessante Einblicke in Mobilitätsthemen wie alternative Antriebe, Leichtbau, Sicherheit oder Qualität. Den Abschluss der Führung bildet ein Besuch im weithin sichtbaren „Projekthaus“ ‐ dem neuen Zentrum des FlZ, von dem seit 2005 jedes neue Auto der BMW Group seinen Ausgang nimmt.
DTSTART:20150118T100000
DTEND:20150118T123000
LOCATION:Eingangshalle, Haupteingang, Knorrstr. 147 
ORGANIZER:MVHS München Nord
END:VEVENT
END:VCALENDAR