BEGIN:VCALENDAR
VERSION:2.0
PRODID:-//Stadtgeschichte München//DE
CALSCALE:GREGORIAN
BEGIN:VEVENT
UID:10949@stadtgeschichte-muenchen.de
SUMMARY:Der Rangierbahnhof München Nord - High-Tech mit Biotop
DESCRIPTION:Mit dem elektronischen Stellwerk und rechnergesteuerten Betriebsführungssystem ist der 1991 in Betrieb genommene Bahnhof modern ausgestattet. 120 Kilometer Gleise und über 350 Weichen wurden auf dem kilometerlangen Areal des Rangierbahnhofs München Nord verbaut. Ein Fünftel der Baukosten wurde für Umweltschutz und Landschaftspflegeausgegeben, um den gewaltigen städtebaulichen Einschnitt auszugleichen. Die Führung zeigt den Ablauf auf dem Gelände, gibt Einblick in die Betriebssteuerzentrale, den Disponentenund Fahrdienstleite‘rbereich
DTSTART:20151203T150000
DTEND:20151203T173000
LOCATION:Deutsche Bahn AG, Gebäude EO, Ludwigsfelder Str. 95
ORGANIZER:MVHS München Nord
END:VEVENT
END:VCALENDAR