BEGIN:VCALENDAR
VERSION:2.0
PRODID:-//Stadtgeschichte München//DE
CALSCALE:GREGORIAN
BEGIN:VEVENT
UID:10960@stadtgeschichte-muenchen.de
SUMMARY:Jüdischer Friedhof an der Garchinger Straße
DESCRIPTION:Der Friedhof an der Garchinger Straße ist nicht nur die Begräbnisstätte der Israelitischen Gemeinde, er gibt auch Zeugnis eines bedeutenden Teiles der Münchner Geschichte. Die Führung ermöglicht,&nbsp;sich jüdische Schicksale in München vor und nach dem Holocaust zu&nbsp;vergegenwärtigen. Für Männer und verheiratete Frauen ist eine Kopfbedeckung erforderlich. &nbsp;Die Teilnahme ist nur nach vorheriger Anmeldung möglich.
DTSTART:20151018T140000
DTEND:20151018T153000
LOCATION:Jüdischer Friedhof, Haupteingang, Garchinger Str. 37
ORGANIZER:MVHS München Nord
END:VEVENT
END:VCALENDAR