BEGIN:VCALENDAR
VERSION:2.0
PRODID:-//Stadtgeschichte München//DE
CALSCALE:GREGORIAN
BEGIN:VEVENT
UID:10963@stadtgeschichte-muenchen.de
SUMMARY:Vereine stellen sich vor: Interessengemeinschaft Fasanerie aktiv e.V.
DESCRIPTION:Die Interessengemeinschaft Fasanerie aktiv e.V. wurde am25.11.09 gegründet. Das Motto dieses Bürgervereins lautet: Gemeinsam wohnen, gemeinsam leben, gemeinsam aktiv werden. Sechs Aktivkreise beschäftigen sich mit der Verbesserung der Infrastruktur und dem Erhalt des Gartensiedlungscharakters der Fasanerie, mit der Bewahrung von Umwelt und Natur, der Dokumentation der Historie des Wohnviertels sowie mit allen Bereichen, die das Miteinander der Bewohner unterstützen. Bei der Veranstaltung werden die Aktivitäten und Ziele des Vereins vorgestellt.&nbsp;
DTSTART:20151114T150000
DTEND:20151114T163000
LOCATION:St. Christoph, Pfarrsaal - Am Blütenanger 7
ORGANIZER:MVHS München Nord
END:VEVENT
END:VCALENDAR