BEGIN:VCALENDAR
VERSION:2.0
PRODID:-//Stadtgeschichte München//DE
CALSCALE:GREGORIAN
BEGIN:VEVENT
UID:10967@stadtgeschichte-muenchen.de
SUMMARY:Stadtteilspaziergang Milbertshofen
DESCRIPTION:Milbertshofen verbindet man mit dem herben Charme einer Arbeitervorstadt im Schatten eines riesigen Automobilherstellers. BMW produziert hier seit 1923. Die spektakuläre BMWWelt und das neugestaltete BMW-Museum sind Magnete nicht nur für Technikbegeisterte. Bei der Führung im einstigen Dorf Milbertshofen kann man aber auch die Reste alter Bauernhöfe und den&nbsp;alten Dorfkern entdecken und stößt auf Orte des Gedenkens.
DTSTART:20160221T110000
DTEND:20160221T130000
LOCATION:am BMW Motorradzentrum, Ecke Frankfurter Ring/Knorrstr.
ORGANIZER:MVHS München Nord
END:VEVENT
END:VCALENDAR