BEGIN:VCALENDAR
VERSION:2.0
PRODID:-//Stadtgeschichte München//DE
CALSCALE:GREGORIAN
BEGIN:VEVENT
UID:10968@stadtgeschichte-muenchen.de
SUMMARY:Vom Olympiaberg zum Fröttmaninger Berg
DESCRIPTION:Die Radtour führt von der weitläufigen Hügellandschaft des Olympiaparks zur Allianz Arena durch sehenswerte Grünanlagen. Lange Zeit gab eshier nur den Luitpoldpark, Gartendenkmal und Volkspark aus den letzten Jahren der bayerischen Monarchie. Esfolgten der Olympiapark, zuletzt der Petuelpark und die Parkstadt Schwabing mit ihren architektonischen Gartenstrukturen. Wir streifen die Hirschau und erklimmen den Fröttmaninger Berg, den nördlichsten Hügel Münchens. Von der Heilig-Kreuz‐Kirche führt der Weg zur Allianz Arena, wo die Tour endet.&nbsp;
DTSTART:20151010T110000
DTEND:20151010T133000
LOCATION:Olympiapark nLerchenauer Str./ Ecke Martin-Luther‐King-Weg
ORGANIZER:MVHS München Nord
END:VEVENT
END:VCALENDAR