BEGIN:VCALENDAR
VERSION:2.0
PRODID:-//Stadtgeschichte München//DE
CALSCALE:GREGORIAN
BEGIN:VEVENT
UID:10975@stadtgeschichte-muenchen.de
SUMMARY:„Komm mit
DESCRIPTION:&lt;p&gt;Am Heiligabend 2014 zogen die ersten Asylsuchenden in die neue Erstaufnahmeeinrichtung auf dem Gelände der McGraw‐Kaserne ein. Seither haben sich viele Giesinger bemüht, den Flüchtlingen ihren Start in Deutschland zu erleichtern. Gleichzeitig trennt ein hoher Zaun die Flüchtlinge und ihre Umgebung. Persönliche Kontakte der neuen Nachbarn halten sich in Grenzen. Wir wollen auf einem gemeinsamen Stadtteilspaziergang den Flüchtlingen Gelegenheit geben, ihre vorübergehende Umgebungsamt ihren Bewohnern kennen zu lernen ‐ und umgekehrt. Ausklang bei Getränken und Gesprächen im MVHS-Stadtbereichszentrum im alten St.- Martin-Spital.&amp;nbsp;&lt;/p&gt; 
DTSTART:20151011T140000
DTEND:20151011T160000
LOCATION:McGraw Kaserne, Erstaufnahmeeinrichtung für Flüchtlinge -Tegernseer Landstr. 239 a
ORGANIZER:MVHS München Ost
END:VEVENT
END:VCALENDAR