BEGIN:VCALENDAR
VERSION:2.0
PRODID:-//Stadtgeschichte München//DE
CALSCALE:GREGORIAN
BEGIN:VEVENT
UID:10978@stadtgeschichte-muenchen.de
SUMMARY:Kooperatives Wohnprojekt Effnerstraße
DESCRIPTION:GPP ist seit 45 Jahren in der Münchner Jugendhilfe engagiert und bietet u.a. unterschiedliche Formen des betreuten Wohnens für Jugendliche undjunge EnNachsene an. ImAugust 2013-wurde das Wohnprojekt in der Effnerstraße eröffnet. Hier leben junge EnNachsene und in vier Zwei-Zimmer‐Wohnungen Frauen mit Kindern. Alle haben eine Fluchtgeschichte hinter sich, stammen aus Afghanistan, Somalia, Nigeria. Sie erhalten hier Beratung, Begleitung, Unterstützungbbei der Ausbildung oder Behördenangelegenheiten und spezielle Angebote für Mütter und ihre Kinder. Wir laden Sie ein, uns und die Einrichtung kennenzulernen.
DTSTART:20151021T190000
DTEND:20151021T203000
LOCATION:Wohnprojekt Effnerstr. Effnerstr. 72
ORGANIZER:MVHS München Ost
END:VEVENT
END:VCALENDAR