BEGIN:VCALENDAR
VERSION:2.0
PRODID:-//Stadtgeschichte München//DE
CALSCALE:GREGORIAN
BEGIN:VEVENT
UID:10980@stadtgeschichte-muenchen.de
SUMMARY:Gedenkveranstaltung für die Deportierten und Ermordeten
DESCRIPTION:&lt;p&gt;Nahezu 500 Juden waren 1941 bis 1943 vom Internierungslager für Juden im Kloster der Barmherzigen Schwestern in Berg am Laim in die NS‐Vernichtungslager deportiert worden. Zum letzten Transport nach Auschwitz gehörten auch die jüdischen Heimkinder aus der Münchner Antonienstraße. Die rassistische Verfolgung machte damals auch vor Kindern und Jugendlichen nicht halt. Nur wenige konnten 1938/39 im Rahmen der Kindertransporte nach Großbritannien gerettet werden. Fast alle sahen ihre Eltern nie wieder. Auch heute verlassen junge Menschen ihre Eltern und Familien, um sich vor Gewalt und Not in ihren Heimatländern in Sicherheit zu bringen. Einige davon fanden in Berg amLaim ein neues Zuhause. Was verbindet und was unterscheidet die Not der jungen Menschen, die damals und heute von ihren Familien getrennt wurden? Lebenswege im Gespräch, anschließend Lichtergang zum Mahnmal.&lt;/p&gt; &lt;p&gt;In Zusammenarbeit mit der Friedensgemeinschaft Berg am Laim und Pax Christi, Gruppe St. Michael, der Evangelischen Offenbarungskirche sowie mit Unterstützung des Bezirksausschusses 14 Berg am Laim.&amp;nbsp;&lt;/p&gt; 
DTSTART:20151112T190000
DTEND:20151112T213000
LOCATION:Alten- und Pflegeheim St. Michael < St-MichaeI-Str. 16
ORGANIZER:MVHS München Ost
END:VEVENT
END:VCALENDAR